BEGIN:VCALENDAR
VERSION:2.0
BEGIN:VEVENT
DTSTART;TZID=US/Eastern:20200915T124500
DTEND;TZID=US/Eastern:20200915T134500
SUMMARY:Thermodynamics of Benchmark HP Model Protein Sequences on the Face-Centered Cubic Lattice -- Matthew Wilson
DESCRIPTION:CSP Lunch Seminar. Join Zoom Meeting https://zoom.us/j/96665749477
Meeting ID: 966 6574 9477
LOCATION:Zoom Meeting
END:VEVENT
END:VCALENDAR