BEGIN:VCALENDAR
VERSION:2.0
BEGIN:VEVENT
DTSTART;TZID=US/Eastern:20200908T124500
DTEND;TZID=US/Eastern:20200908T134500
SUMMARY:Migrating to Slurm and new software environment -- Zhuofei Hou
DESCRIPTION:CSP Lunch Seminar. Join Zoom Meetinghttps://zoom.us/j/96665749477
 
Meeting ID: 966 6574 9477
Find your local number: https://zoom.us/u/abxR21u1gX
Join by SIP96665749477@zoomcrc.com
Join by H.323162.255.37.11 (US West)162.255.36.11 (US East)115.114.131.7 (India Mumbai)115.114.115.7 (India Hyderabad)213.19.144.110 (Amsterdam Netherlands)213.244.140.110 (Germany)103.122.166.55 (Australia)149.137.40.110 (Singapore)64.211.144.160 (Brazil)69.174.57.160 (Canada)207.226.132.110 (Japan)
LOCATION:Zoom Meeting
END:VEVENT
END:VCALENDAR