BEGIN:VCALENDAR
VERSION:2.0
BEGIN:VEVENT
DTSTART;TZID=US/Eastern:20200901T124500
DTEND;TZID=US/Eastern:20200901T134500
SUMMARY:Synchronization of Stochastic Circadian Clock Oscillators -- Lingyun Wu
DESCRIPTION:CSP Lunch Seminar. Join Zoom Meeting: https://zoom.us/j/96665749477
LOCATION:Zoom Meeting
END:VEVENT
END:VCALENDAR