BEGIN:VCALENDAR
VERSION:2.0
BEGIN:VEVENT
DTSTART;TZID=US/Eastern:20200903T155500
DTEND;TZID=US/Eastern:20200903T165500
SUMMARY:SUSY Rilles: A Speculation on Superstring Signatures in the Cosmic Microwave Background -- Prof. James Gates, Jr.
DESCRIPTION:Departmental Colloquium. We speculate about the imprint of higher spin supermultiplets on cosmological correlators, i.e., the non- Gaussianity of the cosmic microwave background. Supersymmetry is used as a guide to introduce the contribution of fermionic higher spin particles, which have been neglected thus far in the literature. We compute the curvature perturbation 3-point function for supersymmetric higher-spin particle exchanges and find the known P(cos) angular dependence is accompanied by superpartner contributions.
Thursday, September 3, at 3:55 PM. Join Zoom Meeting: https://zoom.us/j/99808158494
 
LOCATION:Zoom Meeting
END:VEVENT
END:VCALENDAR