BEGIN:VCALENDAR
VERSION:2.0
BEGIN:VEVENT
DTSTART;TZID=US/Eastern:20200128T123000
DTEND;TZID=US/Eastern:20200128T133000
SUMMARY:Towards Scalable and Reliable Architectures for Quantum Computing Platforms -- Swamit Tannu
DESCRIPTION:CSP Lunch Seminar. 
LOCATION:CSP Conference Room (322)
END:VEVENT
END:VCALENDAR