BEGIN:VCALENDAR
VERSION:2.0
BEGIN:VEVENT
DTSTART;TZID=US/Eastern:20200121T123000
DTEND;TZID=US/Eastern:20200121T133000
SUMMARY:Quantum supremacy and the future of near-term quantum computing -- Prof. Michael Geller
DESCRIPTION:CSP Lunch Seminar. 
LOCATION:CSP Conference Room (322)
END:VEVENT
END:VCALENDAR