BEGIN:VCALENDAR
VERSION:2.0
BEGIN:VEVENT
DTSTART;TZID=US/Eastern:20200116T143000
DTEND;TZID=US/Eastern:20200116T153000
SUMMARY:Departmental Coffee Hour -- Prof. Shriram Ramanathan
DESCRIPTION:Coffee Hour. Please join us for a cup of coffee and cheesecake + pineapple.

LOCATION:Physics Reading Room
END:VEVENT
END:VCALENDAR