BEGIN:VCALENDAR
VERSION:2.0
BEGIN:VEVENT
DTSTART;TZID=US/Eastern:20200109T143000
DTEND;TZID=US/Eastern:20200109T153000
SUMMARY:Departmental Coffee Hour -- Prof. Sharon Glotzer
DESCRIPTION:Coffee Hour. Welcome back and happy new year to you all!
We have our first departmental coffee hour of this semester, today, Thursday, at 2:30. Please join us for a friendly discussion with our colloquium speaker, Prof. Sharon Glotzer.
Thanks to Prof. Landau for sponsoring this coffee hour.

LOCATION:Physics Reading Room
END:VEVENT
END:VCALENDAR