BEGIN:VCALENDAR
VERSION:2.0
BEGIN:VEVENT
DTSTART;TZID=US/Eastern:20191121T143000
DTEND;TZID=US/Eastern:20191121T153000
SUMMARY:Departmental Coffee Hour -- Prof. Nathaniel P. Stern
DESCRIPTION:Coffee Hour. We have our departmental coffee hour, today at 2:30pm. Our guest is Prof. Nathaniel P. Stern. We also have a Persian treat today, it is called Ghorabie and is from northwestern part of Iran. I have attached some pictures of the Tabriz city, where it comes from.

 
LOCATION:Physics Reading Room
END:VEVENT
END:VCALENDAR