BEGIN:VCALENDAR
VERSION:2.0
BEGIN:VEVENT
DTSTART;TZID=US/Eastern:20191119T123000
DTEND;TZID=US/Eastern:20191119T133000
SUMMARY:A New Universality at a first order phase transition: The spin-flop transition in an anisotropic Heisenberg antiferromagnet -- Prof. David Landau
DESCRIPTION:CSP Lunch Seminar. 
LOCATION:CSP Conference Room (322)
END:VEVENT
END:VCALENDAR