BEGIN:VCALENDAR
VERSION:2.0
BEGIN:VEVENT
DTSTART;TZID=US/Eastern:20191114T143000
DTEND;TZID=US/Eastern:20191114T153000
SUMMARY:Departmental Coffee Hour -- Prof. Dennis Bodewits
DESCRIPTION:Coffee Hour. This is a reminder that we have our departmental coffee hour, today, at 2:30pm. We have our Colombian coffee and a fresh cheesecake!
Please join us for a friendly discussion with Prof. Dennis Bodewits.
Thanks to Dr. Abate to sponsoring this week&rsquo;s coffee hour.

LOCATION:Physics Reading Room
END:VEVENT
END:VCALENDAR