BEGIN:VCALENDAR
VERSION:2.0
BEGIN:VEVENT
DTSTART;TZID=US/Eastern:20191112T123000
DTEND;TZID=US/Eastern:20191112T133000
SUMMARY:The Emergence of Periodicity in Coupled Stochastic Circadian Oscillators -- Lingyun Wu
DESCRIPTION:CSP Lunch Seminar. 
LOCATION:CSP Conference Room (322)
END:VEVENT
END:VCALENDAR