BEGIN:VCALENDAR
VERSION:2.0
BEGIN:VEVENT
DTSTART;TZID=US/Eastern:20191031T143000
DTEND;TZID=US/Eastern:20191031T153000
SUMMARY:Departmental Coffee Hour -- Prof. Li Yang
DESCRIPTION:Coffee Hour. Happy Halloween!
We have our departmental coffee hour, today at 2:30pm in the physics reading room. Please join us for a friendly discussion with our guest, prof. Li Yang.
It is not surprising to have pumpkin pie besides coffee!
Please see the flier for more information.
Thanks to Eric Suter for sponsoring us for this coffee hour.

LOCATION:Physics Reading Room
END:VEVENT
END:VCALENDAR