BEGIN:VCALENDAR
VERSION:2.0
BEGIN:VEVENT
DTSTART;TZID=US/Eastern:20191024T143000
DTEND;TZID=US/Eastern:20191024T153000
SUMMARY:Departmental Coffee Hour -- Prof. Jianjun Dong
DESCRIPTION:Coffee Hour. We are having another departmental coffee hour, on Thursday, 10/24 at 2:30pm in the physics reading room.
Thanks to Dr. Shelton for supporting this coffee hour.

LOCATION:Physics Reading Room
END:VEVENT
END:VCALENDAR