BEGIN:VCALENDAR
VERSION:2.0
BEGIN:VEVENT
DTSTART;TZID=US/Eastern:20191003T143000
DTEND;TZID=US/Eastern:20191003T153000
SUMMARY:Departmental Coffee Hour -- 
DESCRIPTION:Coffee Hour. One of our Brazilian students, Fabricio, is providing traditional Brazilian "cheese breads" called Pao deQueijo.
Thanks to Dr. Nguyen for supporting us!
LOCATION:Physics Reading Room
END:VEVENT
END:VCALENDAR