BEGIN:VCALENDAR
VERSION:2.0
BEGIN:VEVENT
DTSTART;TZID=US/Eastern:20191001T123000
DTEND;TZID=US/Eastern:20191001T133000
SUMMARY:First-principles investigations of structure and vibrations of c(4x2) PF3 on Cu(001) -- Nima Karimitari
DESCRIPTION:CSP Lunch Seminar. 
LOCATION:CSP Conference Room (322)
END:VEVENT
END:VCALENDAR