BEGIN:VCALENDAR
VERSION:2.0
BEGIN:VEVENT
DTSTART;TZID=US/Eastern:20190917T123000
DTEND;TZID=US/Eastern:20190917T133000
SUMMARY:Using the CSP Site to Promote Your Research and Yourself -- Jeff Deroshia
DESCRIPTION:CSP Lunch Seminar. 
LOCATION:CSP Conference Room (322)
END:VEVENT
END:VCALENDAR