BEGIN:VCALENDAR
VERSION:2.0
BEGIN:VEVENT
DTSTART;TZID=US/Eastern:20200518T090000
DTEND;TZID=US/Eastern:20200520T170000
SUMMARY:Galactic and Extragalactic High Velocity Clouds Workshop -- 
DESCRIPTION:Workshop. This will be a small workshop where scientists who are interested in Galactic and extragalactic High Velocity Clouds (HVCs) will gather for lively discussions of the latest observations, computational models and theoretical explanations.
See more at the workshop web site: https://www.physast.uga.edu/workshops/high-velocity-clouds
LOCATION:University of Georgia, Athens, Georgia
END:VEVENT
END:VCALENDAR