BEGIN:VCALENDAR
VERSION:2.0
BEGIN:VEVENT
DTSTART;TZID=US/Eastern:20190423T123000
DTEND;TZID=US/Eastern:20190423T133000
SUMMARY:Two birds with one stone: density-of-states-informed simulations and optimal parallel tempering -- Dr. Thomas Vogel
DESCRIPTION:CSP Lunch Seminar. 
LOCATION:CSP Conference Room (322)
END:VEVENT
END:VCALENDAR