BEGIN:VCALENDAR
VERSION:2.0
BEGIN:VEVENT
DTSTART;TZID=US/Eastern:20190416T123000
DTEND;TZID=US/Eastern:20190416T133000
SUMMARY:Reactive Scattering of HD by Hydrogen -- Boyi Zhou
DESCRIPTION:CSP Lunch Seminar. 
LOCATION:CSP Conference Room (322)
END:VEVENT
END:VCALENDAR