BEGIN:VCALENDAR
VERSION:2.0
BEGIN:VEVENT
DTSTART;TZID=US/Eastern:20190218T100000
DTEND;TZID=US/Eastern:20190222T120000
SUMMARY:The 32nd Annual CSP Workshop: Recent Developments in Computer Simulational Studies in Condensed Matter Physics -- Multiple
DESCRIPTION:Workshop. Workshop details are located on the CSP Annual Workshop Site.
LOCATION:CSP Conference Room (322)
END:VEVENT
END:VCALENDAR