BEGIN:VCALENDAR
VERSION:2.0
BEGIN:VEVENT
DTSTART;TZID=US/Eastern:20190221T160000
DTEND;TZID=US/Eastern:20190221T170000
SUMMARY:Quantum Chemistry and Computer Science: A Historical Account of Their Tightly Coupled Parallel Development -- Prof. Henry Schaefer
DESCRIPTION:Departmental Colloquium. TBD
LOCATION:Physics Auditorium (202)
END:VEVENT
END:VCALENDAR