BEGIN:VCALENDAR
VERSION:2.0
BEGIN:VEVENT
DTSTART;TZID=US/Eastern:20100819T160000
DTEND;TZID=US/Eastern:20100819T170000
SUMMARY:Physics and applications of contrast-enhanced MRI - Detection and Evaluation of Tumors Labeled with iron-Oxide Nanoparticles in MRI   -- Mr. Jason Langley
DESCRIPTION:Departmental Colloquium. Contrast agents are used in magnetic resonance imaging (MRI) to enhance contrast difference in tissues by changing relaxation rates between tissues with and without contrast agent. Contrast agents can be broken into two categories: T1&ndash;based agents and T2&ndash;based agents. T1&ndash;based contrast agents change the longitudinal relaxation time (T1) and T2&ndash;based contrast agents change the transverse relaxation time (T2). In this talk, we will focus on contrast agents based on super paramagnetic iron oxide (SPIO) nanoparticles. SPIO nanoparticles change T2 of surrounding tissues and are used to label different types of cells. In the talk, methods for detecting labeled cells and quantifying concentrations of labeled cells will be presented.
LOCATION:Physics 202
END:VEVENT
END:VCALENDAR