BEGIN:VCALENDAR
VERSION:2.0
BEGIN:VEVENT
DTSTART;TZID=US/Eastern:20100420T123000
DTEND;TZID=US/Eastern:20100420T133000
SUMMARY:RNA Structure Analysis through Shannon Entrophy -- Timothy Shaw
DESCRIPTION:CSP Lunch Seminar. Dr. Timothy Shaw of the University of Georgia Institute of Bioinformatics will be presenting his talk entitled, "RNA Structure Analysis through Shannon Entrophy."
LOCATION:CSP Conference Room (322)
END:VEVENT
END:VCALENDAR