BEGIN:VCALENDAR
VERSION:2.0
BEGIN:VEVENT
DTSTART;TZID=US/Eastern:20181113T123000
DTEND;TZID=US/Eastern:20181113T133000
SUMMARY:Efficient Characterization of Correlated Measurement Errors -- Mingyu Sun
DESCRIPTION:CSP Lunch Seminar. 
LOCATION:CSP Conference Room (322)
END:VEVENT
END:VCALENDAR