BEGIN:VCALENDAR
VERSION:2.0
BEGIN:VEVENT
DTSTART;TZID=US/Eastern:20100413T123000
DTEND;TZID=US/Eastern:20100413T133000
SUMMARY:A Short Tour of Python -- Ying-Wai Li
DESCRIPTION:CSP Lunch Seminar. Dr. Ying-Wai Li will be presenting her talk entitled "A Short Tour of Python."
LOCATION:CSP Conference Room (322)
END:VEVENT
END:VCALENDAR