BEGIN:VCALENDAR
VERSION:2.0
BEGIN:VEVENT
DTSTART;TZID=US/Eastern:20181002T123000
DTEND;TZID=US/Eastern:20181002T133000
SUMMARY:Generic Structural Transitions in Macromolecular Systems -- Prof. Michael Bachmann
DESCRIPTION:CSP Lunch Seminar. 
LOCATION:CSP Conference Room (322)
END:VEVENT
END:VCALENDAR