BEGIN:VCALENDAR
VERSION:2.0
BEGIN:VEVENT
DTSTART;TZID=US/Eastern:20180925T123000
DTEND;TZID=US/Eastern:20180925T133000
SUMMARY:Information Security for the UGA network -- Chris Workman & Laura Heilman
DESCRIPTION:CSP Lunch Seminar. 
LOCATION:CSP Conference Room (322)
END:VEVENT
END:VCALENDAR