BEGIN:VCALENDAR
VERSION:2.0
BEGIN:VEVENT
DTSTART;TZID=US/Eastern:20180911T123000
DTEND;TZID=US/Eastern:20180911T133000
SUMMARY:Properties of Crambin Homologues in the H0P Lattice Model -- Zewen Zhang
DESCRIPTION:CSP Lunch Seminar. 
LOCATION:CSP Conference Room (322)
END:VEVENT
END:VCALENDAR