BEGIN:VCALENDAR
VERSION:2.0
BEGIN:VEVENT
DTSTART;TZID=US/Eastern:20180907T122000
DTEND;TZID=US/Eastern:20180907T132000
SUMMARY:Intravital Imaging of MSCs and Bone Regeneration -- Luke Mortensen
DESCRIPTION:Applied Physics Seminar. Mesenchymal Stem Cells (MSCs) are promising therapeutics for inflammatory diseases and musculoskeletal regeneration; but challenges in identifying highly potent cells and evaluating their in vivo behavior have slowed clinical translation. Dr. Mortensen’s research program develops advanced intravital 2 photon imaging strategies including laser ablation, adaptive optics correction, and super-resolution imaging to probe mesenchymal stem cell (MSC) therapies for inflammation and bone disease and the study of regenerative processes.
LOCATION:CSP Conference Room (322)
END:VEVENT
END:VCALENDAR