BEGIN:VCALENDAR
VERSION:2.0
BEGIN:VEVENT
DTSTART;TZID=US/Eastern:20180904T123000
DTEND;TZID=US/Eastern:20180904T133000
SUMMARY:Career Center Resources for Students -- Jenna Lostritto-Simmons
DESCRIPTION:CSP Lunch Seminar. 
LOCATION:CSP Conference Room (322)
END:VEVENT
END:VCALENDAR