BEGIN:VCALENDAR
VERSION:2.0
BEGIN:VEVENT
DTSTART;TZID=US/Eastern:20180828T123000
DTEND;TZID=US/Eastern:20180828T133000
SUMMARY:A Histogram-Free Monte Carlo Algorithm to Obtain the Density of States -- Alfred Farris
DESCRIPTION:CSP Lunch Seminar. 
LOCATION:CSP Conference Room (322)
END:VEVENT
END:VCALENDAR