BEGIN:VCALENDAR
VERSION:2.0
BEGIN:VEVENT
DTSTART;TZID=US/Eastern:20180821T123000
DTEND;TZID=US/Eastern:20180821T133000
SUMMARY:Introduction on HPC Resources at the GACRC -- Zhuofei Hou
DESCRIPTION:CSP Lunch Seminar. 
LOCATION:CSP Conference Room (322)
END:VEVENT
END:VCALENDAR