BEGIN:VCALENDAR
VERSION:2.0
BEGIN:VEVENT
DTSTART;TZID=US/Eastern:20180817T122000
DTEND;TZID=US/Eastern:20180817T132000
SUMMARY:Recent developments and new opportunities in quantum computation -- Prof. Michael Geller
DESCRIPTION:Applied Physics Seminar. Quantum computers, which promise enormous computational power for certain specialized tasks, are being developed by universities, government labs, and technology companies worldwide. I will briefly review the current status of quantum computers, their demanding requirements for error correction, and the current attempts at prethreshold (non-error- corrected) quantum computation. I will also highlight areas where I think there will be significant future opportunities for physicists and materials scientists.
LOCATION:CSP Conference Room (322)
END:VEVENT
END:VCALENDAR