BEGIN:VCALENDAR
VERSION:2.0
BEGIN:VEVENT
DTSTART;TZID=US/Eastern:20100202T123000
DTEND;TZID=US/Eastern:20100202T133000
SUMMARY:Turbulent Mixing Layers studied by Non-Equilibrium Ionization Code -- Kyujin Kwak
DESCRIPTION:CSP Lunch Seminar. Dr. Kyujin Kwak will presenting a talk titled "Turbulent Mixing Layers studied by Non-Equilibrium Ionization Code."
LOCATION:CSP Conference Room (322)
END:VEVENT
END:VCALENDAR