BEGIN:VCALENDAR
VERSION:2.0
BEGIN:VEVENT
DTSTART;TZID=US/Eastern:20180811T090000
DTEND;TZID=US/Eastern:20180811T120000
SUMMARY:August 2018 Prelim Exam Day 2 -- 
DESCRIPTION:Prelims. The day/time for this exam is subject to change in the event of a conflict with important UGA events.
LOCATION:Room 254
END:VEVENT
END:VCALENDAR