BEGIN:VCALENDAR
VERSION:2.0
BEGIN:VEVENT
DTSTART;TZID=US/Eastern:20180628T113000
DTEND;TZID=US/Eastern:20180628T123000
SUMMARY:Vapor-Liquid-Solid Mechanism: Programming Heterogeneity at the Nanoscale -- M. Filler
DESCRIPTION:Applied Physics Seminar. 
LOCATION:CSP Conference Room (322)
END:VEVENT
END:VCALENDAR