BEGIN:VCALENDAR
VERSION:2.0
BEGIN:VEVENT
DTSTART;TZID=US/Eastern:20180615T113000
DTEND;TZID=US/Eastern:20180615T123000
SUMMARY:Developing ultrafast spectroscopies with frequency combs: new frontiers in ultra-sensitive and multidimensional measurements -- M. Reber
DESCRIPTION:Applied Physics Seminar. 
LOCATION:CSP Conference Room (322)
END:VEVENT
END:VCALENDAR