BEGIN:VCALENDAR
VERSION:2.0
BEGIN:VEVENT
DTSTART;TZID=US/Eastern:20180601T113000
DTEND;TZID=US/Eastern:20180601T123000
SUMMARY:Super-Resolution Microscopy -- P. Kner
DESCRIPTION:Applied Physics Seminar. 
LOCATION:CSP Conference Room (322)
END:VEVENT
END:VCALENDAR