BEGIN:VCALENDAR
VERSION:2.0
BEGIN:VEVENT
DTSTART;TZID=US/Eastern:20180420T113000
DTEND;TZID=US/Eastern:20180420T123000
SUMMARY:Nanoparticles to Enhance Photodynamic Therapy and Radiation Therapy -- J. Xie
DESCRIPTION:Applied Physics Seminar. 
LOCATION:CSP Conference Room (322)
END:VEVENT
END:VCALENDAR