BEGIN:VCALENDAR
VERSION:2.0
BEGIN:VEVENT
DTSTART;TZID=US/Eastern:20180406T113000
DTEND;TZID=US/Eastern:20180406T123000
SUMMARY:Glancing Angle Deposition for Plasmonics -- Prof. Yiping Zhao
DESCRIPTION:Applied Physics Seminar. 
LOCATION:CSP Conference Room (322)
END:VEVENT
END:VCALENDAR