BEGIN:VCALENDAR
VERSION:2.0
BEGIN:VEVENT
DTSTART;TZID=US/Eastern:20180518T090000
DTEND;TZID=US/Eastern:20180518T170000
SUMMARY:2nd Annual Southeast Quantum Computing Workshop -- 
DESCRIPTION:Workshop. The Second Southeast Quantum Computing Workshop will be held at the University of Georgia, Athens, on May 18, 2018. The workshop will have APS-style talks and will cover all aspects of quantum computing and quantum information science. To assure an informal and highly interactive setting, space is limited and pre-registration is required. Conference attendance is free.
The workshop is hosted by the Center for Simulational Physics. For additional information please contact Traci McKinney at traci.mckinney@uga.edu or 706-542-2909.
LOCATION:CSP Conference Room (322)
END:VEVENT
END:VCALENDAR