BEGIN:VCALENDAR
VERSION:2.0
BEGIN:VEVENT
DTSTART;TZID=US/Eastern:20180403T123000
DTEND;TZID=US/Eastern:20180403T133000
SUMMARY:Probing Interactions at the Nanometer Length Scale: Relevant Experiments and Theory, Part II -- Prof. Yohannes Abate
DESCRIPTION:CSP Lunch Seminar. 
LOCATION:CSP Conference Room (322)
END:VEVENT
END:VCALENDAR