BEGIN:VCALENDAR
VERSION:2.0
BEGIN:VEVENT
DTSTART;TZID=US/Eastern:20180419T153000
DTEND;TZID=US/Eastern:20180419T163000
SUMMARY:Undergraduate Day Colloquium -- Dr. Whitney Ingram
DESCRIPTION:Departmental Colloquium. 
LOCATION:Physics Auditorium (202)
END:VEVENT
END:VCALENDAR