BEGIN:VCALENDAR
VERSION:2.0
BEGIN:VEVENT
DTSTART;TZID=US/Eastern:20180412T153000
DTEND;TZID=US/Eastern:20180412T163000
SUMMARY:Cummings Day Graduate Awards Ceremony -- 
DESCRIPTION:Awards Ceremony. 
LOCATION:Physics Main Lobby
END:VEVENT
END:VCALENDAR