BEGIN:VCALENDAR
VERSION:2.0
BEGIN:VEVENT
DTSTART;TZID=US/Eastern:20180320T123000
DTEND;TZID=US/Eastern:20180320T133000
SUMMARY:Probing Interactions at the Nanometer Length Scale: Relevant Experiments and Theory -- Prof. Yohannes Abate
DESCRIPTION:CSP Lunch Seminar. 
LOCATION:CSP Conference Room (322)
END:VEVENT
END:VCALENDAR