BEGIN:VCALENDAR
VERSION:2.0
BEGIN:VEVENT
DTSTART;TZID=US/Eastern:20180116T123000
DTEND;TZID=US/Eastern:20180116T133000
SUMMARY:Adsorption of Flexible Polymer Chains on a Surface -- Paulo Martins
DESCRIPTION:CSP Lunch Seminar. 
LOCATION:CSP Conference Room (322)
END:VEVENT
END:VCALENDAR