BEGIN:VCALENDAR
VERSION:2.0
BEGIN:VEVENT
DTSTART;TZID=US/Eastern:20171027T190000
DTEND;TZID=US/Eastern:20171028T180000
SUMMARY:Georgia Regional Astronomers Meeting -- 
DESCRIPTION:Meeting. The 16th meeting of the Georgia Regional Astronomers will take place at UGA. It will bring together professional astronomers, graduate and undergraduate students, educators, planetarium professionals, and amateur astronomers. This year, the Association of Lunar and Planetary Observers (ALPO) will be joining the Georgia Regional Astronomers Meeting (GRAM). Presentations will be given on a variety of topics, ranging from the Great American Eclipse of 2017 to gravitational waves. The kick-off event will be a public lecture on Friday night by Professor Deirdre Shoemaker of Georgia Tech. Following the presentations on Saturday, the ALPO Awards Dinner will take place at the Georgia Center for Continuing Education. Registration, agenda, and driving and parking directions for the GRAM are posted here: http://www.astronomy.gatech.edu/GRAM/2017/2017_meeting.php. Registration for the ALPO Awards Dinner is here:  http://alpo-astronomy.org/.
LOCATION:Georgia Center for Continuing Education
END:VEVENT
END:VCALENDAR