BEGIN:VCALENDAR
VERSION:2.0
BEGIN:VEVENT
DTSTART;TZID=US/Eastern:20100302T123000
DTEND;TZID=US/Eastern:20100302T133000
SUMMARY:Quantum-mechanical Calculations on Charge Transfer Process -- Yong Wu
DESCRIPTION:CSP Lunch Seminar. Dr. Yong Wu will be presenting his talk entitled "Quantum-mechanical Calculations on Charge Transfer Process." Dr. Wu is being hosted by Dr. Phillip Stancil.
LOCATION:CSP Conference Room (322)
END:VEVENT
END:VCALENDAR