BEGIN:VCALENDAR
VERSION:2.0
BEGIN:VEVENT
DTSTART;TZID=US/Eastern:20171019T153000
DTEND;TZID=US/Eastern:20171019T163000
SUMMARY:Metal Chalcogenide Materials and Applications -- Professor Tina T. Salguero
DESCRIPTION:Departmental Colloquium. Metal chalcogenide materials have extraordinarily diverse structural and electronic properties. This talk will focus on our recent work with metal dichalcogenide and trichalcogenide compositions that exhibit metallic properties and charge density wave behavior, including TaSe2, TaSsub2, TaSe3, and NbS3. These materials can be exfoliated into nanosheets or nanoribbons, which can form the basis of nanostructured devices with special applications in the area of radiation-resilient electronics.
LOCATION:Physics Auditorium (202)
END:VEVENT
END:VCALENDAR